BEGIN:VCALENDAR
VERSION:2.0
PRODID:-//Goldenwood - ECPv6.15.20//NONSGML v1.0//EN
CALSCALE:GREGORIAN
METHOD:PUBLISH
X-ORIGINAL-URL:https://goldenwoodnyc.org
X-WR-CALDESC:Events for Goldenwood
REFRESH-INTERVAL;VALUE=DURATION:PT1H
X-Robots-Tag:noindex
X-PUBLISHED-TTL:PT1H
BEGIN:VTIMEZONE
TZID:America/New_York
BEGIN:DAYLIGHT
TZOFFSETFROM:-0500
TZOFFSETTO:-0400
TZNAME:EDT
DTSTART:20240310T070000
END:DAYLIGHT
BEGIN:STANDARD
TZOFFSETFROM:-0400
TZOFFSETTO:-0500
TZNAME:EST
DTSTART:20241103T060000
END:STANDARD
BEGIN:DAYLIGHT
TZOFFSETFROM:-0500
TZOFFSETTO:-0400
TZNAME:EDT
DTSTART:20250309T070000
END:DAYLIGHT
BEGIN:STANDARD
TZOFFSETFROM:-0400
TZOFFSETTO:-0500
TZNAME:EST
DTSTART:20251102T060000
END:STANDARD
BEGIN:DAYLIGHT
TZOFFSETFROM:-0500
TZOFFSETTO:-0400
TZNAME:EDT
DTSTART:20260308T070000
END:DAYLIGHT
BEGIN:STANDARD
TZOFFSETFROM:-0400
TZOFFSETTO:-0500
TZNAME:EST
DTSTART:20261101T060000
END:STANDARD
END:VTIMEZONE
BEGIN:VEVENT
DTSTART;TZID=America/New_York:20250921T194500
DTEND;TZID=America/New_York:20251004T230000
DTSTAMP:20260423T222235
CREATED:20250813T233402Z
LAST-MODIFIED:20250917T155121Z
UID:7963-1758483900-1759618800@goldenwoodnyc.org
SUMMARY:Trellis: Life-Giving Rhythms for Reviving Calling
DESCRIPTION:For many\, “calling” is often equated with choosing the right career path. But in Scripture\, God’s call is far more expansive—it encompasses the whole of our lives. Calling isn’t about isolating one piece of who we are; it begins with the Caller Himself. Discerning our call doesn’t start with self-analysis\, but with listening—attentively and expectantly—for the voice of the Shepherd who guides His people (John 10:13–16). \nOver the course of this two-week journey\, you’ll be invited into new ways of prayer\, learning to walk conversationally with God and to recognize His voice amid the patterns of your life. Trellis offers practices that root you in God’s presence\, helping you to weave life-giving rhythms into your days so that calling becomes not just something you “discover” but something you live into\, moment by moment. \nThis experience will give you both structure and spaciousness—anchored by a community that listens together for God’s leading. \n[Goldenwood Collective Members: Sign-up here. Because listening for God’s voice together is foundational to fueling the vision and mission of the Collective\, Trellis is included in your membership. Interested in joining the Collective and participating in all Trellis sessions for free? Learn more here.] \n——————————— \nSPECIAL NOTE FOR FEDERAL EMPLOYEES & GOVERNMENT CONTRACTORS: \nRecognizing the unique disruptions and challenges currently facing the federal workforce\, a generous donor has made it possible for all Federal Workers to participate in this Trellis at no cost. It is our hope that this space will offer renewal\, encouragement\, and a deeper grounding for the road ahead. \nIf you are part of the Federal Workforce in any capacity\, please >> SIGN-UP HERE (FREE!) <<\nAll others\, please register using the form below. \n——————————— \nThe Trellis structure includes: \n\n1 Intro Session: Sun Sept 21\, 7:45-9p EST. (Online experience for theological introduction and time in listening quads. Recorded for those who cannot join live.)\n6 Communal Guided Listening Sessions: every Mon\, Wed\, and Fri 12:20-12:45p EST\, during the weeks of Sept 22 and Sept 29. (Attend live or listen to the 25-min recordings at personal set times.)\nDaily Scripture Meditation and Exercise Pages: Individually in your Listening Book. (Participants are provided with a digital PDF or can order their own physical copy online via Amazon.)\n\nThe communal practices of Trellis are designed to gently interrupt ordinary routines\, creating openings for deeper attentiveness to the God who renews and restores. And because they can be entered into wherever you are\, the journey meets you right in the midst of daily life. \n \n——————————— \n“If a vine doesn’t have a trellis\, it will die. And if your life with Jesus doesn’t have some kind of structure to facilitate health and growth\, it will wither away…The point of a trellis isn’t to make the vines stand up straight in neat rows\, but rather to attain a rich\, deep glass of wine.” \n— John Mark Comer\, The Ruthless Elimination of Hurry
URL:https://goldenwoodnyc.org/event/trellis-sep-2025/
LOCATION:Virtual
CATEGORIES:Institute,Trellis
ATTACH;FMTTYPE=image/png:https://goldenwoodnyc.org/wp-content/uploads/2025/08/09-25-Trellis-image-large.png
ORGANIZER;CN="Goldenwood":MAILTO:info@goldenwoodnyc.org
END:VEVENT
BEGIN:VEVENT
DTSTART;TZID=America/New_York:20251026T194500
DTEND;TZID=America/New_York:20251108T230000
DTSTAMP:20260423T222235
CREATED:20250813T233545Z
LAST-MODIFIED:20251022T044725Z
UID:7965-1761507900-1762642800@goldenwoodnyc.org
SUMMARY:Trellis | New Voice: Discerning God's Tone
DESCRIPTION:Our perception of God shapes how we relate to Him. Misunderstandings or distortions can keep us at a distance\, missing the joy of communion with Father\, Son\, and Spirit. Yet the good news of the gospel is that the Triune God draws near—welcoming us as both friend and child\, inviting us into ongoing conversation with Him. \nOver these two weeks\, you’ll be guided through a variety of prayer practices that foster a conversational walk with God—attuning your ear to His voice in the midst of daily life. Trellis creates a structure that supports this journey: rhythms that renew\, a community that listens alongside you\, and the spaciousness to encounter God afresh. \nAs a companion to this Trellis\, we’ll be reading through Dane Ortlund’s book Gentle and Lowly. You’ll want to either borrow or pick up a copy to have on hand for these two weeks. With Scripture as its foundation\, this book unveils the deep tenderness of Jesus and communicates the very heart of God towards us. \nThis experience offers not only tools for hearing God but also the lived experience of His nearness—reshaping our sense of calling and bringing vitality to our everyday rhythms. \nThe Trellis structure includes: \n\n1 Intro Session: Sun Oct 26\, 7:45-9p EST. (Online experience for theological introduction and time in listening quads. Recorded for those who cannot join live.)\n6 Communal Guided Listening Sessions: every Mon\, Wed\, and Fri from 12:35-1:05p EST (NEW timeframe as of Oct 2025!)\, during the weeks of Oct 27 and Nov 3. (Attend live or listen to the 25-min recordings at personal set times.)\nDaily Scripture Meditation and Exercise Pages: Individually in your Listening Book. (Participants are provided with a digital PDF or can order their own physical copy online via Amazon.)\n\nThe communal practices of Trellis are designed to gently interrupt ordinary routines\, creating openings for deeper attentiveness to the God who renews and restores. And because they can be entered into wherever you are\, the journey meets you right in the midst of daily life. \n \n——————————— \n“If a vine doesn’t have a trellis\, it will die. And if your life with Jesus doesn’t have some kind of structure to facilitate health and growth\, it will wither away…The point of a trellis isn’t to make the vines stand up straight in neat rows\, but rather to attain a rich\, deep glass of wine.” \n— John Mark Comer\, The Ruthless Elimination of Hurry
URL:https://goldenwoodnyc.org/event/trellis-oct-2025/
LOCATION:Virtual
CATEGORIES:Institute,Trellis
ATTACH;FMTTYPE=image/png:https://goldenwoodnyc.org/wp-content/uploads/2025/08/Screenshot-2025-10-15-at-2.59.44-PM.png
ORGANIZER;CN="Goldenwood":MAILTO:info@goldenwoodnyc.org
END:VEVENT
END:VCALENDAR