BEGIN:VCALENDAR
VERSION:2.0
PRODID:-//Goldenwood - ECPv6.15.20//NONSGML v1.0//EN
CALSCALE:GREGORIAN
METHOD:PUBLISH
X-ORIGINAL-URL:https://goldenwoodnyc.org
X-WR-CALDESC:Events for Goldenwood
REFRESH-INTERVAL;VALUE=DURATION:PT1H
X-Robots-Tag:noindex
X-PUBLISHED-TTL:PT1H
BEGIN:VTIMEZONE
TZID:America/New_York
BEGIN:DAYLIGHT
TZOFFSETFROM:-0500
TZOFFSETTO:-0400
TZNAME:EDT
DTSTART:20230312T070000
END:DAYLIGHT
BEGIN:STANDARD
TZOFFSETFROM:-0400
TZOFFSETTO:-0500
TZNAME:EST
DTSTART:20231105T060000
END:STANDARD
BEGIN:DAYLIGHT
TZOFFSETFROM:-0500
TZOFFSETTO:-0400
TZNAME:EDT
DTSTART:20240310T070000
END:DAYLIGHT
BEGIN:STANDARD
TZOFFSETFROM:-0400
TZOFFSETTO:-0500
TZNAME:EST
DTSTART:20241103T060000
END:STANDARD
BEGIN:DAYLIGHT
TZOFFSETFROM:-0500
TZOFFSETTO:-0400
TZNAME:EDT
DTSTART:20250309T070000
END:DAYLIGHT
BEGIN:STANDARD
TZOFFSETFROM:-0400
TZOFFSETTO:-0500
TZNAME:EST
DTSTART:20251102T060000
END:STANDARD
END:VTIMEZONE
BEGIN:VEVENT
DTSTART;TZID=America/New_York:20241208T193000
DTEND;TZID=America/New_York:20241221T233000
DTSTAMP:20260424T224018
CREATED:20240905T223353Z
LAST-MODIFIED:20241204T152838Z
UID:6206-1733686200-1734823800@goldenwoodnyc.org
SUMMARY:Trellis | Knowing Yourself (A Two-Week Listening Journey)
DESCRIPTION:As the busy holiday season draws near\, many will feel the familiar rush and bustle that has driven our lives all year. Our fast-paced\, productivity-obsessed culture leaves little time for rest and reflection. Into this default state of hurried living\, the Trellis program offers an alternative – a chance to rediscover the ancient spiritual discipline of wintering through slowing down\, listening within\, and exploring our inner lives. This December\, Trellis will focus on “Knowing Yourself” by embracing winter’s dormancy as Katherine May and Curt Thompson describe—an opportunity for inner reflection\, examining our deepest needs and desires through stillness with non-judgmental courage and kindness. \nWintering involves stopping our rushed pace to gain insight into where our longings come from and allowing for healing through true integration. This Trellis invites rediscovering the gifts of inward focus and community through the spiritual rhythm of periodic dormancy. Intentional periods of stillness can paradoxically lead to personal growth\, authentic relationships\, and living fully in God’s presence—a vision worth cultivating as we bring this busy year to a close. \nThroughout the two-week experience\, you will be introduced to a variety of prayer forms\, learning to walk conversationally with God\, recognizing His voice in your life.  Trellis will guide you to integrate life-giving spiritual practices into everyday rhythms\, transforming and renewing our sense of calling.  Enter into this season with a new structure that provides the space and a community for hearing God’s voice and knowing who He reveals Himself to be in the midst of your everyday routines\, leading to holistic vitality. \nThe TRELLIS structure includes: \n\n1 Intro Session: Sun Dec 8\, 7:45-9p EST. (Online experience for theological introduction and time in listening quads. Recorded for those who cannot join live.)\n6 Communal Guided Listening Sessions: every Mon\, Wed\, and Fri 12:20-12:45p EST\, during the weeks of Dec 9 and Dec 16. (Attend live or listen to the 25-min recordings at personal set times.)\nDaily Scripture Meditation and Exercise Pages: Individually in your Listening Book. (Participants are provided with a digital PDF or can order their own physical copy online via Amazon.)\n\nThe communal listening rhythms of TRELLIS are intentionally designed as intrusions into your regular daily routines and\, therefore can be entered into from wherever you are. For more about TRELLIS… \n——————————— \n“If a vine doesn’t have a trellis\, it will die. And if your life with Jesus doesn’t have some kind of structure to facilitate health and growth\, it will wither away…The point of a trellis isn’t to make the vines stand up straight in neat rows\, but rather to attain a rich\, deep glass of wine.” \n— John Mark Comer\, The Ruthless Elimination of Hurry \n 
URL:https://goldenwoodnyc.org/event/trellis-knowing-yourself-2024/
LOCATION:Virtual
CATEGORIES:Institute,Trellis
ATTACH;FMTTYPE=image/png:https://goldenwoodnyc.org/wp-content/uploads/2024/09/Screenshot-2024-12-04-at-8.59.00-AM.png
ORGANIZER;CN="Goldenwood":MAILTO:info@goldenwoodnyc.org
END:VEVENT
END:VCALENDAR