BEGIN:VCALENDAR
VERSION:2.0
PRODID:-//Goldenwood - ECPv6.15.20//NONSGML v1.0//EN
CALSCALE:GREGORIAN
METHOD:PUBLISH
X-WR-CALNAME:Goldenwood
X-ORIGINAL-URL:https://goldenwoodnyc.org
X-WR-CALDESC:Events for Goldenwood
REFRESH-INTERVAL;VALUE=DURATION:PT1H
X-Robots-Tag:noindex
X-PUBLISHED-TTL:PT1H
BEGIN:VTIMEZONE
TZID:America/New_York
BEGIN:DAYLIGHT
TZOFFSETFROM:-0500
TZOFFSETTO:-0400
TZNAME:EDT
DTSTART:20240310T070000
END:DAYLIGHT
BEGIN:STANDARD
TZOFFSETFROM:-0400
TZOFFSETTO:-0500
TZNAME:EST
DTSTART:20241103T060000
END:STANDARD
BEGIN:DAYLIGHT
TZOFFSETFROM:-0500
TZOFFSETTO:-0400
TZNAME:EDT
DTSTART:20250309T070000
END:DAYLIGHT
BEGIN:STANDARD
TZOFFSETFROM:-0400
TZOFFSETTO:-0500
TZNAME:EST
DTSTART:20251102T060000
END:STANDARD
BEGIN:DAYLIGHT
TZOFFSETFROM:-0500
TZOFFSETTO:-0400
TZNAME:EDT
DTSTART:20260308T070000
END:DAYLIGHT
BEGIN:STANDARD
TZOFFSETFROM:-0400
TZOFFSETTO:-0500
TZNAME:EST
DTSTART:20261101T060000
END:STANDARD
END:VTIMEZONE
BEGIN:VEVENT
DTSTART;TZID=America/New_York:20250202T194500
DTEND;TZID=America/New_York:20250215T230000
DTSTAMP:20260425T123145
CREATED:20250107T191026Z
LAST-MODIFIED:20250107T193321Z
UID:7026-1738525500-1739660400@goldenwoodnyc.org
SUMMARY:Trellis | Loving Others (A Two-Week Listening Journey)
DESCRIPTION:In our ruggedly individualistic culture\, it’s not readily apparent that other people are a quintessential part of our identity.  As image-bearers of a Triune God\, we need other people to help us understand and realize the redemptive work God has set before us.  Who are the others in my life?  What role do they play and what calling has God given me regarding these people? \nThroughout the two-week experience\, you will be introduced to a variety of prayer forms\, learning to walk conversationally with God\, recognizing His voice in your life.  Trellis will guide you to integrate life-giving spiritual practices into everyday rhythms\, transforming and renewing our sense of calling.  Enter into this season with a new structure that provides the space and a community for hearing God’s voice and knowing who He reveals Himself to be in the midst of your everyday routines\, leading to holistic vitality. \nThe TRELLIS structure includes: \n\n1 Intro Session: Sun Feb 2\, 7:30-9p EST. (Online experience for theological introduction and time in listening quads. Recorded for those who cannot join live.)\n6 Communal Guided Listening Sessions: every Mon\, Wed\, and Fri 12:20-12:45p EST\, during the weeks of Feb 3 and Feb 10. (Attend live or listen to the 25-min recordings at personal set times.)\nDaily Scripture Meditation and Exercise Pages: Individually in your Listening Book. (Participants are provided with a digital PDF or can order their own physical copy online via Amazon.)\n\nThe communal listening rhythms of TRELLIS are intentionally designed as intrusions into your regular daily routines and\, therefore can be entered into from wherever you are. For more about TRELLIS… \n——————————— \n“If a vine doesn’t have a trellis\, it will die. And if your life with Jesus doesn’t have some kind of structure to facilitate health and growth\, it will wither away…The point of a trellis isn’t to make the vines stand up straight in neat rows\, but rather to attain a rich\, deep glass of wine.” \n— John Mark Comer\, The Ruthless Elimination of Hurry
URL:https://goldenwoodnyc.org/event/trellis-feb-2025/
LOCATION:Virtual
CATEGORIES:Trellis
ATTACH;FMTTYPE=image/png:https://goldenwoodnyc.org/wp-content/uploads/2025/01/Screenshot-2025-01-07-at-2.22.15-PM.png
ORGANIZER;CN="Goldenwood":MAILTO:info@goldenwoodnyc.org
END:VEVENT
END:VCALENDAR