BEGIN:VCALENDAR
VERSION:2.0
PRODID:-//Goldenwood - ECPv6.15.20//NONSGML v1.0//EN
CALSCALE:GREGORIAN
METHOD:PUBLISH
X-WR-CALNAME:Goldenwood
X-ORIGINAL-URL:https://goldenwoodnyc.org
X-WR-CALDESC:Events for Goldenwood
REFRESH-INTERVAL;VALUE=DURATION:PT1H
X-Robots-Tag:noindex
X-PUBLISHED-TTL:PT1H
BEGIN:VTIMEZONE
TZID:America/New_York
BEGIN:DAYLIGHT
TZOFFSETFROM:-0500
TZOFFSETTO:-0400
TZNAME:EDT
DTSTART:20240310T070000
END:DAYLIGHT
BEGIN:STANDARD
TZOFFSETFROM:-0400
TZOFFSETTO:-0500
TZNAME:EST
DTSTART:20241103T060000
END:STANDARD
BEGIN:DAYLIGHT
TZOFFSETFROM:-0500
TZOFFSETTO:-0400
TZNAME:EDT
DTSTART:20250309T070000
END:DAYLIGHT
BEGIN:STANDARD
TZOFFSETFROM:-0400
TZOFFSETTO:-0500
TZNAME:EST
DTSTART:20251102T060000
END:STANDARD
BEGIN:DAYLIGHT
TZOFFSETFROM:-0500
TZOFFSETTO:-0400
TZNAME:EDT
DTSTART:20260308T070000
END:DAYLIGHT
BEGIN:STANDARD
TZOFFSETFROM:-0400
TZOFFSETTO:-0500
TZNAME:EST
DTSTART:20261101T060000
END:STANDARD
END:VTIMEZONE
BEGIN:VEVENT
DTSTART;TZID=America/New_York:20250114T113000
DTEND;TZID=America/New_York:20250114T130000
DTSTAMP:20260425T142806
CREATED:20241004T212223Z
LAST-MODIFIED:20250110T152117Z
UID:6590-1736854200-1736859600@goldenwoodnyc.org
SUMMARY:Institute Course | Hopeful Intelligence: Reimagining AI Through Spiritual Wisdom
DESCRIPTION:How do spiritual realities shape our understanding of generative artificial intelligence (AI)\, and what new possibilities of “hopeful intelligence” arise when we explore this intersection? In this dynamic three-session course\, David Kim\, alongside futurist Bob Johansen (Distinguished Fellow at the Institute for the Future)\, will guide participants through a transformative exploration of how spiritual wisdom can inform the way we design\, understand\, and collaborate with AI systems. \nDavid was invited in 2021 to join the Advisory Board of AI and Faith where he contributes essays\, and has contributed a chapter in Faithful AI. David consults organizations to thoughtfully engage with this emerging technology with a hopeful theistic frame. \nThis transformative course will present a Hopeful Intelligence framework\, exploring how artificial intelligence can transcend efficiency and profit-driven assumptions to become an unprecedented tool for hope\, imagination\, and human flourishing. Grounded in spiritual wisdom and informed by thinkers like Bob Johansen\, Charles Taylor and Otto Scharmer\, participants will engage in reflective practices\, collaborative exercises\, and visionary discussions to reimagine AI’s potential in addressing the world’s deepest pain points with justice\, creativity\, and grace. Through this journey\, participants will learn to align AI with a future marked by compassion\, equity\, and divine purpose.  We will consider both the theological and practical implications of these questions as we explore this new frontier. \nRegister now to explore how spiritual realities can inform and transform our approach to one of the most influential technologies of our time. \nDetails: \nLocation: Online\nDate and Time: Three sessions held on January 14\, 21\, 28 from 11:30-1:00 ET\nCost: $400 (early bird\, before Dec 1) / $550 \nAbout your Guide: \n \n\nDavid Kim is the CEO and co-founder of Goldenwood. Over the past several decades\, Rev. Dr. David Kim has trained\, consulted\, and counseled hundreds of leaders and organizations in developing a robust\, meaningful integration of faith and work. David’s past experiences as VP of Faith and Work\, Executive Director of the Center for Faith & Work\, Director of the Gotham Fellowship\, and editor of the NIV Faith and Work Bible have given him a breadth of exposure to the challenges of integrating faith and work. His expertise as a key thought-leader in the faith and work space has been well-established having addressed prominent institutions and churches around the world. David’s passion is to help people and organizations see the unseen realities that give rise to the world we create. \n  \n  \n\nBob Johansen began working with IFTF in 1973 and has worked as a professional futurist for nearly 50 years. The author or co-author of 12 books and a frequent keynote speaker\, he recently completed a trilogy that details the types of leadership that will thrive in the next decade. The New Leadership Literacies focuses on essential practices of leadership\, picking up where Leaders Make the Future\, its more skills-oriented precursor\, left off; in 2020\, he published Full-Spectrum Thinking\, which focuses on the need for a futureback mindset. His latest book\, Office Shock: Creating Better Futures for Working and Living\, is co-written with IFTF colleagues Joseph Press and Christine Bullen. Bob holds a B.S. from the University of Illinois (which he attended on a basketball scholarship)\, an MDiv from Crozer Theological Seminary (where Martin Luther King\, Jr.\, attended divinity school)\, and a Ph.D. in Sociology of Religion from Northwestern University. \n 
URL:https://goldenwoodnyc.org/event/institute-course-reimagining-ai-spiritual-wisdom-and-collaborative-knowledge/
LOCATION:Virtual
CATEGORIES:Institute
ATTACH;FMTTYPE=image/webp:https://goldenwoodnyc.org/wp-content/uploads/2024/10/DK-AI-course-image.webp
ORGANIZER;CN="Goldenwood":MAILTO:info@goldenwoodnyc.org
END:VEVENT
END:VCALENDAR