BEGIN:VCALENDAR
VERSION:2.0
PRODID:-//Goldenwood - ECPv6.15.20//NONSGML v1.0//EN
CALSCALE:GREGORIAN
METHOD:PUBLISH
X-ORIGINAL-URL:https://goldenwoodnyc.org
X-WR-CALDESC:Events for Goldenwood
REFRESH-INTERVAL;VALUE=DURATION:PT1H
X-Robots-Tag:noindex
X-PUBLISHED-TTL:PT1H
BEGIN:VTIMEZONE
TZID:America/New_York
BEGIN:DAYLIGHT
TZOFFSETFROM:-0500
TZOFFSETTO:-0400
TZNAME:EDT
DTSTART:20250309T070000
END:DAYLIGHT
BEGIN:STANDARD
TZOFFSETFROM:-0400
TZOFFSETTO:-0500
TZNAME:EST
DTSTART:20251102T060000
END:STANDARD
BEGIN:DAYLIGHT
TZOFFSETFROM:-0500
TZOFFSETTO:-0400
TZNAME:EDT
DTSTART:20260308T070000
END:DAYLIGHT
BEGIN:STANDARD
TZOFFSETFROM:-0400
TZOFFSETTO:-0500
TZNAME:EST
DTSTART:20261101T060000
END:STANDARD
BEGIN:DAYLIGHT
TZOFFSETFROM:-0500
TZOFFSETTO:-0400
TZNAME:EDT
DTSTART:20270314T070000
END:DAYLIGHT
BEGIN:STANDARD
TZOFFSETFROM:-0400
TZOFFSETTO:-0500
TZNAME:EST
DTSTART:20271107T060000
END:STANDARD
END:VTIMEZONE
BEGIN:VEVENT
DTSTART;TZID=America/New_York:20260416T080000
DTEND;TZID=America/New_York:20260417T150000
DTSTAMP:20260423T140348
CREATED:20260204T155544Z
LAST-MODIFIED:20260213T222145Z
UID:8610-1776326400-1776438000@goldenwoodnyc.org
SUMMARY:The Creative Summit | Nashville\, TN
DESCRIPTION:Goldenwood is excited to be collaborating with our friends at the Creative Arts Collective (CAC) for an exciting two-day gathering at Belmont University this spring. We’ve enjoyed our growing relationship with the CAC team and are honored to be part of this gathering of artists\, pastors\, and cultural leaders seeking renewal at the intersection of faith\, imagination\, and work. \nDavid Kim (Goldenwood CEO) will be one of the featured speakers\, and our team will also be facilitating several workshops and embodied exercises across the two days—creating space to listen\, reflect\, and practice together in ways that nurture hope and attentiveness to God. \nIf you’re longing for a few days to reconnect with your creative and vocational calling\, and join others who care deeply about the importance of the arts for societal healing\, we would love for you to join us in Nashville this spring! You can learn more about the summit and register here.  \nEmail info@goldenwoodnyc.org to let us know you’re registered. Hope to see you there!
URL:https://goldenwoodnyc.org/event/the-creative-summit-nashville-tn/
LOCATION:Belmont University\, 2020 Belmont Blvd\, Nashville\, TN\, 37212\, United States
ATTACH;FMTTYPE=image/png:https://goldenwoodnyc.org/wp-content/uploads/2026/02/Screenshot-2026-02-04-at-10.42.54-AM.png
END:VEVENT
END:VCALENDAR