BEGIN:VCALENDAR
VERSION:2.0
PRODID:-//Goldenwood - ECPv6.15.20//NONSGML v1.0//EN
CALSCALE:GREGORIAN
METHOD:PUBLISH
X-ORIGINAL-URL:https://goldenwoodnyc.org
X-WR-CALDESC:Events for Goldenwood
REFRESH-INTERVAL;VALUE=DURATION:PT1H
X-Robots-Tag:noindex
X-PUBLISHED-TTL:PT1H
BEGIN:VTIMEZONE
TZID:America/New_York
BEGIN:DAYLIGHT
TZOFFSETFROM:-0500
TZOFFSETTO:-0400
TZNAME:EDT
DTSTART:20240310T070000
END:DAYLIGHT
BEGIN:STANDARD
TZOFFSETFROM:-0400
TZOFFSETTO:-0500
TZNAME:EST
DTSTART:20241103T060000
END:STANDARD
BEGIN:DAYLIGHT
TZOFFSETFROM:-0500
TZOFFSETTO:-0400
TZNAME:EDT
DTSTART:20250309T070000
END:DAYLIGHT
BEGIN:STANDARD
TZOFFSETFROM:-0400
TZOFFSETTO:-0500
TZNAME:EST
DTSTART:20251102T060000
END:STANDARD
BEGIN:DAYLIGHT
TZOFFSETFROM:-0500
TZOFFSETTO:-0400
TZNAME:EDT
DTSTART:20260308T070000
END:DAYLIGHT
BEGIN:STANDARD
TZOFFSETFROM:-0400
TZOFFSETTO:-0500
TZNAME:EST
DTSTART:20261101T060000
END:STANDARD
END:VTIMEZONE
BEGIN:VEVENT
DTSTART;TZID=America/New_York:20251207T194500
DTEND;TZID=America/New_York:20251220T230000
DTSTAMP:20260423T195657
CREATED:20250813T233538Z
LAST-MODIFIED:20251204T023601Z
UID:7969-1765136700-1766271600@goldenwoodnyc.org
SUMMARY:Trellis: Guided Spiritual Rhythms | Becoming Fully Alive
DESCRIPTION:There is a moment in every Christian’s life when everything changes. Despite the seismic nature of this event\, it can come about quietly and invisibly without pomp and circumstance. Scripture describes this moment as a miraculous movement from death to life. Theologians refer to this as regeneration\, not meant as a metaphor or symbol\, but as an ontological reality. \nBiblically speaking\, to live is to live by the Spirit who is the Spirit of love (2 Timothy 1:7). This is what animates the Christian life and brings to the world the aroma of life and of Christ. It does not arise from sheer resolve or discipline but from the generous outpouring of the Spirit who animates parts of us that have never come alive. \nOver the course of this two-week journey\, you’ll be invited into new ways of prayer\, learning to walk conversationally with God and to recognize His voice amid the patterns of your life. In pausing with intention\, we rediscover that stillness is not stagnation—it is fertile ground for growth\, authentic connection\, and living more fully in God’s presence. \nREGISTER HERE\n[Goldenwood Collective Members: Sign-up here. Because listening for God’s voice together is foundational to fueling the vision and mission of the Collective\, Trellis is included in your membership. Interested in joining the Collective and participating in all Trellis sessions for free? Learn more here.] \n——————————— \nThe Trellis structure includes: \n\n1 Intro Session: Sun Dec 7\, 7:45-9p EST. (Online experience for theological introduction and time in listening quads. Recorded for those who cannot join live.)\n6 Communal Guided Listening Sessions: every Mon\, Wed\, and Fri 12:35-1:00p EST\, during the weeks of Dec 8 and Dec 15. (Attend live or listen to the 25-min recordings at personal set times.)\nDaily Scripture Meditation and Exercise Pages: Individually in your Listening Book. (Participants are provided with a digital PDF or can order their own physical copy online via Amazon.)\n\nThe communal practices of Trellis are designed to gently interrupt ordinary routines\, creating openings for deeper attentiveness to the God who renews and restores. And because they can be entered into wherever you are\, the journey meets you right in the midst of daily life. \n \n——————————— \n“If a vine doesn’t have a trellis\, it will die. And if your life with Jesus doesn’t have some kind of structure to facilitate health and growth\, it will wither away…The point of a trellis isn’t to make the vines stand up straight in neat rows\, but rather to attain a rich\, deep glass of wine.” \n— John Mark Comer\, The Ruthless Elimination of Hurry
URL:https://goldenwoodnyc.org/event/trellis-dec-2025/
LOCATION:Virtual
CATEGORIES:Institute,Trellis
ATTACH;FMTTYPE=image/png:https://goldenwoodnyc.org/wp-content/uploads/2025/08/Screenshot-2025-11-25-at-4.35.59-PM.png
ORGANIZER;CN="Goldenwood":MAILTO:info@goldenwoodnyc.org
END:VEVENT
END:VCALENDAR