BEGIN:VCALENDAR
VERSION:2.0
PRODID:-//Goldenwood - ECPv6.15.20//NONSGML v1.0//EN
CALSCALE:GREGORIAN
METHOD:PUBLISH
X-ORIGINAL-URL:https://goldenwoodnyc.org
X-WR-CALDESC:Events for Goldenwood
REFRESH-INTERVAL;VALUE=DURATION:PT1H
X-Robots-Tag:noindex
X-PUBLISHED-TTL:PT1H
BEGIN:VTIMEZONE
TZID:America/New_York
BEGIN:DAYLIGHT
TZOFFSETFROM:-0500
TZOFFSETTO:-0400
TZNAME:EDT
DTSTART:20250309T070000
END:DAYLIGHT
BEGIN:STANDARD
TZOFFSETFROM:-0400
TZOFFSETTO:-0500
TZNAME:EST
DTSTART:20251102T060000
END:STANDARD
BEGIN:DAYLIGHT
TZOFFSETFROM:-0500
TZOFFSETTO:-0400
TZNAME:EDT
DTSTART:20260308T070000
END:DAYLIGHT
BEGIN:STANDARD
TZOFFSETFROM:-0400
TZOFFSETTO:-0500
TZNAME:EST
DTSTART:20261101T060000
END:STANDARD
BEGIN:DAYLIGHT
TZOFFSETFROM:-0500
TZOFFSETTO:-0400
TZNAME:EDT
DTSTART:20270314T070000
END:DAYLIGHT
BEGIN:STANDARD
TZOFFSETFROM:-0400
TZOFFSETTO:-0500
TZNAME:EST
DTSTART:20271107T060000
END:STANDARD
END:VTIMEZONE
BEGIN:VEVENT
DTSTART;TZID=America/New_York:20260308T194500
DTEND;TZID=America/New_York:20260321T230000
DTSTAMP:20260423T135447
CREATED:20250814T120025Z
LAST-MODIFIED:20260304T161801Z
UID:7986-1772999100-1774134000@goldenwoodnyc.org
SUMMARY:Trellis: Guided Spiritual Rhythms | Hidden Hope
DESCRIPTION:Hope often begins in hidden places. The book of Esther reminds us that even when God seems unseen\, His presence is quietly shaping lives\, communities\, and history itself. This Trellis invites you into a two-week “Listening Journey” to reimagine your work and calling through that lens of God’s hidden-yet-active presence. \n\nWeek 1: Journeying in an Enchanted Frame — Learning to notice God’s subtle movements in the ordinary patterns of our days.\nWeek 2: Listening to the Pains of the World — Attending to both personal and communal pain\, and discovering how it can become soil for renewal and transformation.\n\nThrough Scripture\, prayer\, reflection\, and guided practices\, we’ll slow our pace\, step into kairos time\, and cultivate a deeper awareness of God’s presence in the midst of our work and routines. \nTrellis provides both structure and community to help you listen for God’s voice\, integrate life-giving rhythms\, and renew your sense of calling. Enter this season of Lent with practices that open space for hope—a hope that is rooted not in our striving\, but in the faithful presence of the God who works all things toward redemption. \nThe Trellis structure includes: \n\n1 Intro Session: Sun Mar 8\, 7:45-9p EST. (Online experience for theological introduction and time in listening quads. Recorded for those who cannot join live.)\n6 Communal Guided Listening Sessions: every Mon\, Wed\, and Fri 12:20-12:45p EST\, during the weeks of Mar 9 and Mar 16. (Attend live or listen to the 25-min recordings at personal set times.)\nDaily Scripture Meditation and Exercise Pages: Individually in your Listening Book. (Participants are provided with a digital PDF or can order their own physical copy online via Amazon.)\n\nThe communal practices of Trellis are designed to gently interrupt ordinary routines\, creating openings for deeper attentiveness to the God who renews and restores. And because they can be entered into wherever you are\, the journey meets you right in the midst of daily life. \nREGISTER HERE\n[Goldenwood Collective Members: Sign-up here. Because listening for God’s voice together is foundational to fueling the vision and mission of the Collective\, Trellis is included in your membership. Interested in joining the Collective and participating in all Trellis sessions for free? Learn more here.] \n \n——————————— \n“If a vine doesn’t have a trellis\, it will die. And if your life with Jesus doesn’t have some kind of structure to facilitate health and growth\, it will wither away…The point of a trellis isn’t to make the vines stand up straight in neat rows\, but rather to attain a rich\, deep glass of wine.” \n— John Mark Comer\, The Ruthless Elimination of Hurry
URL:https://goldenwoodnyc.org/event/trellis-mar-2026/
LOCATION:Virtual
CATEGORIES:Institute,Trellis
ATTACH;FMTTYPE=image/png:https://goldenwoodnyc.org/wp-content/uploads/2025/08/Screenshot-2026-03-04-at-11.16.32-AM.png
ORGANIZER;CN="Goldenwood":MAILTO:info@goldenwoodnyc.org
END:VEVENT
END:VCALENDAR