BEGIN:VCALENDAR
VERSION:2.0
PRODID:-//Goldenwood - ECPv6.15.20//NONSGML v1.0//EN
CALSCALE:GREGORIAN
METHOD:PUBLISH
X-WR-CALNAME:Goldenwood
X-ORIGINAL-URL:https://goldenwoodnyc.org
X-WR-CALDESC:Events for Goldenwood
REFRESH-INTERVAL;VALUE=DURATION:PT1H
X-Robots-Tag:noindex
X-PUBLISHED-TTL:PT1H
BEGIN:VTIMEZONE
TZID:America/New_York
BEGIN:DAYLIGHT
TZOFFSETFROM:-0500
TZOFFSETTO:-0400
TZNAME:EDT
DTSTART:20250309T070000
END:DAYLIGHT
BEGIN:STANDARD
TZOFFSETFROM:-0400
TZOFFSETTO:-0500
TZNAME:EST
DTSTART:20251102T060000
END:STANDARD
BEGIN:DAYLIGHT
TZOFFSETFROM:-0500
TZOFFSETTO:-0400
TZNAME:EDT
DTSTART:20260308T070000
END:DAYLIGHT
BEGIN:STANDARD
TZOFFSETFROM:-0400
TZOFFSETTO:-0500
TZNAME:EST
DTSTART:20261101T060000
END:STANDARD
BEGIN:DAYLIGHT
TZOFFSETFROM:-0500
TZOFFSETTO:-0400
TZNAME:EDT
DTSTART:20270314T070000
END:DAYLIGHT
BEGIN:STANDARD
TZOFFSETFROM:-0400
TZOFFSETTO:-0500
TZNAME:EST
DTSTART:20271107T060000
END:STANDARD
END:VTIMEZONE
BEGIN:VEVENT
DTSTART;TZID=America/New_York:20260320T180000
DTEND;TZID=America/New_York:20260322T120000
DTSTAMP:20260423T140538
CREATED:20250522T203840Z
LAST-MODIFIED:20260306T132201Z
UID:7461-1774029600-1774180800@goldenwoodnyc.org
SUMMARY:Institute Retreat | Crafting Poems of Beauty & Power
DESCRIPTION:An invitation to return to the page—and to the presence of God. \nREGISTRATION IS NOW CLOSED.\nIf you’d like to join the waitlist\, please provide your info here and we will reach out should any spots open up! \nJoin us for a two-day retreat at a beautiful lodge set on the edge of a lake just outside Spokane\, WA. This gathering isn’t only for poets\, but for anyone longing to awaken or rekindle their own creativity. Whether you’ve written for years\, dabbled in journaling\, or never thought of yourself as a “creative person\,” this retreat is a welcoming space to explore the creativity inherent in all people. \nLed by acclaimed poet and professor Shann Ray\, this space and time will allow us to explore how language can hold what is often unspeakable: awe\, sorrow\, memory\, and the nearness of the sacred. Rooted in the belief that we are God’s poema (Ephesians 2:10)\, this retreat blends creative exploration with spiritual attentiveness. And in an age increasingly shaped by AI\, the call to nurture human creativity has never been more vital. Drawing inspiration from Emily Dickinson\, who turned the everyday into the eternal\, you’ll be challenged to take what you see and feel and craft lines alive with meaning. Through guided sessions around the fireplace and spacious time to reflect and write\, you can expect to create 2–4 original pieces while learning to listen more deeply to your surroundings\, to yourself\, and to God. \nCome not to perform\, but to be present to your own unfolding words\, to the voices of others\, and to the God who meets us in metaphor\, memory\, and mystery. Space is limited\, reserve your spot today! \n \n\nDetails:\nDates: March 20-22\, 2025 | Starts Friday at 6pm with a welcome dinner and ends Sunday by 12pm after breakfast and a closing session. \nLocation: Clearwater Lodge\, Newport\, WA (45 minutes north of Spokane\, WA) \nCost: Choose your Tier – A Pricing Model Rooted in Generosity & Relationship \nAt Goldenwood\, we believe in a gift economy—where our work and giving is not transactional but part of a relational and generative system. Like a root network\, where some trees bear more fruit in one season and others in another\, this pricing approach allows for a shared ecosystem of flourishing—some contribute more so that others may receive\, and all are sustained together.\nOur tiered pricing model reflects this\, allowing participants to contribute at a level that aligns with their capacity while supporting the mission to see work revived by love. We invite you to participate in a way that reflects your own season and capacity.\n1. Full Value (Sustainable Tier) – $620 + choice of accommodations\nReflects the true cost and value while balancing affordability\, including the unseen work that makes this a meaningful and transformative experience. Includes all retreat sessions\, materials\, meals\, and accommodations (to select your type of room\, see info below). Includes access to optional snowshoeing and hiking at the lodge\, weather permitting. Does not include travel or transportation. \n2. Covering Costs (Supported Tier) – $520 + choice of accommodations\nCovers only the essentials—venues\, facilitators\, meals\, materials—ensuring the program is financially viable. Includes all retreat sessions\, materials\, meals\, and accommodations (to select your type of room\, see info below). Includes access to optional snowshoeing and hiking at the lodge\, weather permitting. Does not include travel or transportation. \n3. Generative Giving – $720+ (or choose amount) + choice of accommodations\nGoes beyond covering costs\, helping make our programs accessible to others and investing in the long-term flourishing of this work. Includes all retreat sessions\, materials\, meals\, and accommodations (to select your type of room\, see info below). Includes access to optional snowshoeing and hiking at the lodge\, weather permitting. Does not include travel or transportation. \n  \nAccommodations: When registering on the next page\, choose your preferred accommodations. All rooms have a private bathroom and lake view\, and linens & towels are provided. \n\nSingle occupancy room: +$80\nDouble: +$40 per person (2 x twins or 1 x king bed)\nQuad: +$10 per person (4 x twin beds)\n\nTravel: Please arrange for your own travel to and from Clearwater Lodge. \nIf financial support would make participation possible in this season\, please email info@goldenwoodnyc.org to learn about scholarships. \n  \nRegistration has closed for this retreat. Please join the waitlist to be informed of any spots that open up. \n \n  \n\nAbout your Guide:\nShann Ray\, Czech American artist and American Book Award winner\, teaches leadership and forgiveness studies at Gonzaga University and poetry at Stanford. A National Endowment for the Arts Fellow\, through his research in forgiveness and genocide Shann has served as a visiting scholar in Africa\, Asia\, Europe\, and the Americas\, and as a poetry mentor for the PEN America Prison and Justice Writers Program. He has delivered poetry engagements at Cambridge and the Center for Contemplative Leadership at Princeton Theological Seminary\, and values mutual work involving art\, leadership\, and the reconciliation of people and nations. Having collaborated as a visiting poet with painter Makoto Fujimura on a United Nations grant entitled Intercultural Dialogues through Beauty as a Language of Peace\, Ray is also an International Book Award winner\, a three-time High Plains Book Award winner\, Bread Loaf Fellow\, Bakeless Prize winner\, and winner of the Foreword Book of the Year Readers’ Choice Award. His work comprises a libretto and 17 books\, of which 12 are poetry\, fiction\, and creative nonfiction including Atomic Theory 7\, The Garment of Praise\, Forgiveness and Power in the Age of Atrocity\, Balefire\, American Masculine\, Sweetclover\, Blood Fire Vapor Smoke\, American Copper\, The Souls of Others\, and Transparent in the Backlight. His poems and prose have been featured in Poetry\, Esquire\, Narrative\, McSweeney’s\, Prairie Schooner\, Poetry International\, Big Sky Journal\, and the American Journal of Poetry.
URL:https://goldenwoodnyc.org/event/poetryretreat/
LOCATION:Clearwater Lodge\, Newport\, WA\, 99156\, United States
CATEGORIES:Institute,Retreat
ATTACH;FMTTYPE=image/jpeg:https://goldenwoodnyc.org/wp-content/uploads/2025/05/lucija-ros-S5RBgaziupg-unsplash-scaled.jpg
END:VEVENT
END:VCALENDAR