BEGIN:VCALENDAR
VERSION:2.0
PRODID:-//Goldenwood - ECPv6.15.20//NONSGML v1.0//EN
CALSCALE:GREGORIAN
METHOD:PUBLISH
X-ORIGINAL-URL:https://goldenwoodnyc.org
X-WR-CALDESC:Events for Goldenwood
REFRESH-INTERVAL;VALUE=DURATION:PT1H
X-Robots-Tag:noindex
X-PUBLISHED-TTL:PT1H
BEGIN:VTIMEZONE
TZID:America/New_York
BEGIN:DAYLIGHT
TZOFFSETFROM:-0500
TZOFFSETTO:-0400
TZNAME:EDT
DTSTART:20230312T070000
END:DAYLIGHT
BEGIN:STANDARD
TZOFFSETFROM:-0400
TZOFFSETTO:-0500
TZNAME:EST
DTSTART:20231105T060000
END:STANDARD
BEGIN:DAYLIGHT
TZOFFSETFROM:-0500
TZOFFSETTO:-0400
TZNAME:EDT
DTSTART:20240310T070000
END:DAYLIGHT
BEGIN:STANDARD
TZOFFSETFROM:-0400
TZOFFSETTO:-0500
TZNAME:EST
DTSTART:20241103T060000
END:STANDARD
BEGIN:DAYLIGHT
TZOFFSETFROM:-0500
TZOFFSETTO:-0400
TZNAME:EDT
DTSTART:20250309T070000
END:DAYLIGHT
BEGIN:STANDARD
TZOFFSETFROM:-0400
TZOFFSETTO:-0500
TZNAME:EST
DTSTART:20251102T060000
END:STANDARD
END:VTIMEZONE
BEGIN:VEVENT
DTSTART;VALUE=DATE:20240515
DTEND;VALUE=DATE:20240519
DTSTAMP:20260425T065447
CREATED:20240418T023248Z
LAST-MODIFIED:20240418T023401Z
UID:5611-1715731200-1716076799@goldenwoodnyc.org
SUMMARY:Annual Fallow Retreat | Cambridge\, UK
DESCRIPTION:What is a Fallow Retreat?\nThe essence of a fallow retreat lies in embracing the inherent value of rest and recognizing that seasons of non-productivity can be essential for long-term growth and sustainability. Inspired by the agricultural practice of allowing land to lie fallow and rest\, our hope is for you to experience a deep sense of replenishment\, inspiration\, and reawakening\, ultimately leading to greater productivity\, creativity\, and spiritual vitality in the seasons to come. \nGoldenwood is committed to creating this space and time annually to remember what we’ve forgotten about who we are\, what we’ve been created for\, and who we are becoming. \nWhy Fallow?\n\nFor the “over”worked (those who find themselves in seasons of great responsibility and limited margin): fallowing increases your capacity towards greater fruitfulness.\nFor the “under”worked (those in seasons of transition\, underemployment\, or retirement): fallowing opens up space for the soil to be tilled\, for new seeds to be planted for future realities yet to be seen.\n\n  \nTHIS RETREAT IS CURRENTLY FULL. \nTo Sign-up for the Waitlist\, please email info@goldenwoodnyc.org.
URL:https://goldenwoodnyc.org/event/annual-fallow-retreat-cambridge-uk/
LOCATION:Jesus College\, Jesus Lane\, Cambridge\, CB5 8BL\, United Kingdom
CATEGORIES:Retreat
ATTACH;FMTTYPE=image/png:https://goldenwoodnyc.org/wp-content/uploads/2024/04/Cambridge-UK.png
ORGANIZER;CN="Goldenwood":MAILTO:info@goldenwoodnyc.org
END:VEVENT
END:VCALENDAR