BEGIN:VCALENDAR
VERSION:2.0
PRODID:-//Goldenwood - ECPv6.15.20//NONSGML v1.0//EN
CALSCALE:GREGORIAN
METHOD:PUBLISH
X-ORIGINAL-URL:https://goldenwoodnyc.org
X-WR-CALDESC:Events for Goldenwood
REFRESH-INTERVAL;VALUE=DURATION:PT1H
X-Robots-Tag:noindex
X-PUBLISHED-TTL:PT1H
BEGIN:VTIMEZONE
TZID:America/New_York
BEGIN:DAYLIGHT
TZOFFSETFROM:-0500
TZOFFSETTO:-0400
TZNAME:EDT
DTSTART:20230312T070000
END:DAYLIGHT
BEGIN:STANDARD
TZOFFSETFROM:-0400
TZOFFSETTO:-0500
TZNAME:EST
DTSTART:20231105T060000
END:STANDARD
BEGIN:DAYLIGHT
TZOFFSETFROM:-0500
TZOFFSETTO:-0400
TZNAME:EDT
DTSTART:20240310T070000
END:DAYLIGHT
BEGIN:STANDARD
TZOFFSETFROM:-0400
TZOFFSETTO:-0500
TZNAME:EST
DTSTART:20241103T060000
END:STANDARD
BEGIN:DAYLIGHT
TZOFFSETFROM:-0500
TZOFFSETTO:-0400
TZNAME:EDT
DTSTART:20250309T070000
END:DAYLIGHT
BEGIN:STANDARD
TZOFFSETFROM:-0400
TZOFFSETTO:-0500
TZNAME:EST
DTSTART:20251102T060000
END:STANDARD
BEGIN:DAYLIGHT
TZOFFSETFROM:-0500
TZOFFSETTO:-0400
TZNAME:EDT
DTSTART:20260308T070000
END:DAYLIGHT
BEGIN:STANDARD
TZOFFSETFROM:-0400
TZOFFSETTO:-0500
TZNAME:EST
DTSTART:20261101T060000
END:STANDARD
END:VTIMEZONE
BEGIN:VEVENT
DTSTART;VALUE=DATE:20250415
DTEND;VALUE=DATE:20250616
DTSTAMP:20260423T160112
CREATED:20250121T170725Z
LAST-MODIFIED:20250531T154636Z
UID:7145-1744675200-1750031999@goldenwoodnyc.org
SUMMARY:Nautilus: Applications open through June 15
DESCRIPTION:How you imagine the future intrinsically affects how you work and live in the day to day. And our imagination is shaped by the voices we hear. What voices do you listen to? What future do you see coming–one fashioned by fear or imbued with hope? We need to hear the voice of God breaking into our everyday\, cultivating in us a hope that propels the work we do now. \nNautilus is the capstone program of the Theology & Spiritual Formation Stream in the Goldenwood Institute. This unique 7-month journey combines theology\, listening practices\, spiritual direction\, and communal discernment to develop a holistic vision for your life. It is designed to develop the foundational daily\, weekly\, monthly\, and quarterly rhythms necessary for learning to hear the voice of God and knowing it to be the voice of love as we navigate our complex world. By re-examining God\, self\, others\, and work\, Nautilus provides a transformative journey towards renewed spiritual vitality applicable to all aspects of life. \nAccepting applications April 15th through June 15th from participants nationwide. For more info\, program dates\, and to apply\, visit our program page.
URL:https://goldenwoodnyc.org/event/nautilus-applications-open/
CATEGORIES:Institute,Nautilus
ATTACH;FMTTYPE=image/jpeg:https://goldenwoodnyc.org/wp-content/uploads/2025/04/IMG_4358-scaled.jpeg
END:VEVENT
BEGIN:VEVENT
DTSTART;VALUE=DATE:20240501
DTEND;VALUE=DATE:20240616
DTSTAMP:20260423T160112
CREATED:20230210T190048Z
LAST-MODIFIED:20240418T200506Z
UID:3989-1714521600-1718495999@goldenwoodnyc.org
SUMMARY:NAUTILUS: Applications open through June 15
DESCRIPTION:How you imagine the future unavoidably affects how you work and live in the day to day.  And our imagination is shaped by the voices we hear. What voices do you listen to?  What future do you see coming–one fashioned by fear or imbued with hope?  We need to hear the voice of God breaking into our day to day\, cultivating in us a hope that propels the work we do now. \nNautilus is the capstone program of the Theology & Spiritual Formation Stream in the forthcoming Goldenwood Institute.  This unique 7-month journey is designed to develop the foundational daily\, weekly\, monthly\, and quarterly rhythms necessary for navigating our complex world.  It combines theology\, listening practices\, spiritual direction\, and communal discernment to develop a holistic vision for your life.  By re-examining God\, self\, others\, and work\, Nautilus provides a transformative journey towards renewed spiritual vitality applicable to all aspects of life. \nAccepting applications now through June 15th from participants nation-wide. For more info\, 2024-25 program dates\, and to apply…
URL:https://goldenwoodnyc.org/event/2024-nautilus-applications-open/
LOCATION:Virtual
CATEGORIES:Nautilus
ATTACH;FMTTYPE=image/png:https://goldenwoodnyc.org/wp-content/uploads/2023/02/2023-Nautilus-group-final-retreat.png
ORGANIZER;CN="Goldenwood":MAILTO:info@goldenwoodnyc.org
END:VEVENT
END:VCALENDAR