BEGIN:VCALENDAR
VERSION:2.0
PRODID:-//Goldenwood - ECPv6.15.20//NONSGML v1.0//EN
CALSCALE:GREGORIAN
METHOD:PUBLISH
X-ORIGINAL-URL:https://goldenwoodnyc.org
X-WR-CALDESC:Events for Goldenwood
REFRESH-INTERVAL;VALUE=DURATION:PT1H
X-Robots-Tag:noindex
X-PUBLISHED-TTL:PT1H
BEGIN:VTIMEZONE
TZID:America/New_York
BEGIN:DAYLIGHT
TZOFFSETFROM:-0500
TZOFFSETTO:-0400
TZNAME:EDT
DTSTART:20240310T070000
END:DAYLIGHT
BEGIN:STANDARD
TZOFFSETFROM:-0400
TZOFFSETTO:-0500
TZNAME:EST
DTSTART:20241103T060000
END:STANDARD
BEGIN:DAYLIGHT
TZOFFSETFROM:-0500
TZOFFSETTO:-0400
TZNAME:EDT
DTSTART:20250309T070000
END:DAYLIGHT
BEGIN:STANDARD
TZOFFSETFROM:-0400
TZOFFSETTO:-0500
TZNAME:EST
DTSTART:20251102T060000
END:STANDARD
BEGIN:DAYLIGHT
TZOFFSETFROM:-0500
TZOFFSETTO:-0400
TZNAME:EDT
DTSTART:20260308T070000
END:DAYLIGHT
BEGIN:STANDARD
TZOFFSETFROM:-0400
TZOFFSETTO:-0500
TZNAME:EST
DTSTART:20261101T060000
END:STANDARD
END:VTIMEZONE
BEGIN:VEVENT
DTSTART;TZID=America/New_York:20250501T170000
DTEND;TZID=America/New_York:20250503T120000
DTSTAMP:20260425T115132
CREATED:20250113T164425Z
LAST-MODIFIED:20250124T155208Z
UID:7076-1746118800-1746273600@goldenwoodnyc.org
SUMMARY:17th Annual Mockingbird Conference | NYC
DESCRIPTION:Goldenwood is excited to be collaborating with our friends at Mockingbird for their annual conference in New York City. Join us! You’ll recognize Goldenwood CEO David Kim as a featured speaker\, and Goldenwood Institute Dean and Creative Fellow Sandra McCracken leading worship. \nYou can find more information on their conference site as the agenda and additional speakers are being announced. Registration is now open. Enter code Goldenwood for 15% off your registration! \nEmail info@goldenwoodnyc.org to let us know you’re registered. Hope to see you there!
URL:https://goldenwoodnyc.org/event/17th-annual-mockingbird-conference-nyc/
LOCATION:St. George’s Episcopal Church\, 4 Rutherford Place\, New York\, NY\, 10003\, United States
CATEGORIES:Conference
ATTACH;FMTTYPE=image/png:https://goldenwoodnyc.org/wp-content/uploads/2025/01/Screen-Shot-2025-01-13-at-11.43.26-AM.png
END:VEVENT
END:VCALENDAR