BEGIN:VCALENDAR
VERSION:2.0
PRODID:-//Goldenwood - ECPv6.15.20//NONSGML v1.0//EN
CALSCALE:GREGORIAN
METHOD:PUBLISH
X-WR-CALNAME:Goldenwood
X-ORIGINAL-URL:https://goldenwoodnyc.org
X-WR-CALDESC:Events for Goldenwood
REFRESH-INTERVAL;VALUE=DURATION:PT1H
X-Robots-Tag:noindex
X-PUBLISHED-TTL:PT1H
BEGIN:VTIMEZONE
TZID:America/New_York
BEGIN:DAYLIGHT
TZOFFSETFROM:-0500
TZOFFSETTO:-0400
TZNAME:EDT
DTSTART:20220313T070000
END:DAYLIGHT
BEGIN:STANDARD
TZOFFSETFROM:-0400
TZOFFSETTO:-0500
TZNAME:EST
DTSTART:20221106T060000
END:STANDARD
BEGIN:DAYLIGHT
TZOFFSETFROM:-0500
TZOFFSETTO:-0400
TZNAME:EDT
DTSTART:20230312T070000
END:DAYLIGHT
BEGIN:STANDARD
TZOFFSETFROM:-0400
TZOFFSETTO:-0500
TZNAME:EST
DTSTART:20231105T060000
END:STANDARD
BEGIN:DAYLIGHT
TZOFFSETFROM:-0500
TZOFFSETTO:-0400
TZNAME:EDT
DTSTART:20240310T070000
END:DAYLIGHT
BEGIN:STANDARD
TZOFFSETFROM:-0400
TZOFFSETTO:-0500
TZNAME:EST
DTSTART:20241103T060000
END:STANDARD
END:VTIMEZONE
BEGIN:VEVENT
DTSTART;TZID=America/New_York:20231116T173000
DTEND;TZID=America/New_York:20231116T190000
DTSTAMP:20260423T174703
CREATED:20230906T212410Z
LAST-MODIFIED:20230906T212641Z
UID:4693-1700155800-1700161200@goldenwoodnyc.org
SUMMARY:Goldenwood After-Work | Nov 2023
DESCRIPTION:This monthly rhythm has become a highlight for the community\, fostering generative connections across the city. Stop by after work to hear about hope-fueled work initiatives emerging and/or share your own. Beverages and light snacks provided. Get home in time for dinner\, or meet someone new and grab a bite together on your way out. \nJoin us every month to hear about new work emerging in the community and enjoy collaborative conversations that spur each other on in hope. \nNew things rise up in community…
URL:https://goldenwoodnyc.org/event/goldenwood-after-work-nov-2023/
LOCATION:Goldenwood Commons\, 109 E 31st St\, 4th Fl\, New York\, NY\, 10016\, United States
CATEGORIES:After-Work
ATTACH;FMTTYPE=image/png:https://goldenwoodnyc.org/wp-content/uploads/2023/09/Screenshot-2023-09-06-at-5.25.48-PM.png
ORGANIZER;CN="Goldenwood":MAILTO:info@goldenwoodnyc.org
END:VEVENT
BEGIN:VEVENT
DTSTART;TZID=America/New_York:20231026T173000
DTEND;TZID=America/New_York:20231026T190000
DTSTAMP:20260423T174703
CREATED:20230901T223428Z
LAST-MODIFIED:20230902T045619Z
UID:4663-1698341400-1698346800@goldenwoodnyc.org
SUMMARY:Goldenwood After-Work | Oct 2023
DESCRIPTION:Goldenwood is committed to cultivating generative connections to see work revived by love. \nJoin us every month to hear about new work emerging in the community and enjoy collaborative conversations that spur each other on in hope. \nBeverages and light snacks provided.  Get home in time for dinner\, or meet someone new and grab a bite together on your way out. \nNew things rise up in community…
URL:https://goldenwoodnyc.org/event/goldenwood-after-work-oct-2023/
LOCATION:Goldenwood Commons\, 109 E 31st St\, 4th Fl\, New York\, NY\, 10016\, United States
CATEGORIES:After-Work
ATTACH;FMTTYPE=image/png:https://goldenwoodnyc.org/wp-content/uploads/2023/09/2023-Oct-After-Work.png
ORGANIZER;CN="Goldenwood":MAILTO:info@goldenwoodnyc.org
END:VEVENT
BEGIN:VEVENT
DTSTART;TZID=America/New_York:20230921T173000
DTEND;TZID=America/New_York:20230921T190000
DTSTAMP:20260423T174703
CREATED:20230531T165605Z
LAST-MODIFIED:20230902T044513Z
UID:4440-1695317400-1695322800@goldenwoodnyc.org
SUMMARY:Goldenwood After-Work | Sept 2023
DESCRIPTION:This monthly rhythm has become a highlight for the community\, fostering generative connections across the city. Stop by after work to hear about hope-fueled work initiatives emerging and/or share your own. Beverages and light snacks provided. Get home in time for dinner\, or meet someone new and grab a bite together on your way out. \nJoin us every month to hear about new work emerging in the community and enjoy collaborative conversations that spur each other on in hope. \nNew things rise up in community…
URL:https://goldenwoodnyc.org/event/goldenwood-after-work-sept-2023/
LOCATION:Goldenwood Commons\, 109 E 31st St\, 4th Fl\, New York\, NY\, 10016\, United States
CATEGORIES:After-Work
ATTACH;FMTTYPE=image/png:https://goldenwoodnyc.org/wp-content/uploads/2023/05/Screenshot-2023-05-31-at-12.52.28-PM.png
ORGANIZER;CN="Goldenwood":MAILTO:info@goldenwoodnyc.org
END:VEVENT
BEGIN:VEVENT
DTSTART;TZID=America/New_York:20230613T173000
DTEND;TZID=America/New_York:20230613T190000
DTSTAMP:20260423T174703
CREATED:20230531T163320Z
LAST-MODIFIED:20230531T165716Z
UID:4434-1686677400-1686682800@goldenwoodnyc.org
SUMMARY:Goldenwood After-Work | June 2023
DESCRIPTION:This monthly rhythm has become a highlight for the community\, fostering generative connections across the city. Stop by after work to hear about hope-fueled work initiatives emerging and/or share your own. Beverages and light snacks provided. Get home in time for dinner\, or meet someone new and grab a bite together on your way out. \nWant to learn more about NAUTILUS? We’ll feature stories from Nautilus Alumni and share hopeful vision from across the Goldenwood Network. \nThis will be our last monthly social before the summer and then we’ll start back up again on Tues Sept 19. \nNew things rise up in community… \nRSVP TO ATTEND: \n 
URL:https://goldenwoodnyc.org/event/goldenwood-after-work-june-2023/
LOCATION:Goldenwood Commons\, 109 E 31st St\, 4th Fl\, New York\, NY\, 10016\, United States
CATEGORIES:After-Work
ATTACH;FMTTYPE=image/png:https://goldenwoodnyc.org/wp-content/uploads/2023/05/Screenshot-2023-05-31-at-12.36.49-PM-1.png
ORGANIZER;CN="Goldenwood":MAILTO:info@goldenwoodnyc.org
END:VEVENT
BEGIN:VEVENT
DTSTART;TZID=America/New_York:20230523T173000
DTEND;TZID=America/New_York:20230523T190000
DTSTAMP:20260423T174703
CREATED:20230210T192216Z
LAST-MODIFIED:20230522T140617Z
UID:3999-1684863000-1684868400@goldenwoodnyc.org
SUMMARY:Goldenwood After-Work | May 2023
DESCRIPTION:This monthly rhythm has become a highlight for the community\, fostering generative connections across the city. Stop by after work to hear about hope-fueled work initiatives emerging and/or share your own. Beverages and light snacks provided. Get home in time for dinner\, or meet someone new and grab a bite together on your way out. \nFeaturing stories from Alumni of our Nautilus program as well as updates from Goldenwood’s travels to London and Cambridge. \nSo you can mark your calendar now for the next ones: Jun 13 and starting back up again in Sept. \nNew things rise up in community… \nRSVP TO ATTEND:
URL:https://goldenwoodnyc.org/event/goldenwood-after-work-may-2023/
LOCATION:Goldenwood Commons\, 109 E 31st St\, 4th Fl\, New York\, NY\, 10016\, United States
CATEGORIES:After-Work
ATTACH;FMTTYPE=image/png:https://goldenwoodnyc.org/wp-content/uploads/2023/02/Screenshot-2023-01-04-at-4.31.52-PM.png
ORGANIZER;CN="Goldenwood":MAILTO:info@goldenwoodnyc.org
END:VEVENT
BEGIN:VEVENT
DTSTART;TZID=America/New_York:20230425T173000
DTEND;TZID=America/New_York:20230425T190000
DTSTAMP:20260423T174703
CREATED:20230210T181651Z
LAST-MODIFIED:20230424T143400Z
UID:3975-1682443800-1682449200@goldenwoodnyc.org
SUMMARY:Goldenwood After-Work | Apr 2023
DESCRIPTION:This monthly rhythm has become a highlight for the community\, fostering generative connections across the city. Stop by after work to hear about hope-fueled work initiatives emerging and/or share your own. Beverages and light snacks provided. Get home in time for dinner\, or meet someone new and grab a bite together on your way out. \nTHIS MONTH you can learn more about NAUTILUS and hear stories of growth from alumni of this holistic 7-month experience.  \nSo you can mark your calendar now for the next ones: May 23\, Jun 13. \nNew things rise up in community…
URL:https://goldenwoodnyc.org/event/goldenwood-after-work-apr-2023/
LOCATION:Goldenwood Commons\, 109 E 31st St\, 4th Fl\, New York\, NY\, 10016\, United States
CATEGORIES:After-Work
ATTACH;FMTTYPE=image/png:https://goldenwoodnyc.org/wp-content/uploads/2023/02/Screenshot-2023-02-10-at-1.18.41-PM.png
ORGANIZER;CN="Goldenwood":MAILTO:info@goldenwoodnyc.org
END:VEVENT
BEGIN:VEVENT
DTSTART;TZID=America/New_York:20230321T173000
DTEND;TZID=America/New_York:20230321T190000
DTSTAMP:20260423T174703
CREATED:20230210T182228Z
LAST-MODIFIED:20230319T220216Z
UID:3981-1679419800-1679425200@goldenwoodnyc.org
SUMMARY:Goldenwood After-Work | Mar 2023
DESCRIPTION:This monthly rhythm has become a highlight for the community\, fostering generative connections across the city. Stop by after work to hear about hope-fueled work initiatives emerging and/or share your own. Beverages and light snacks provided. Get home in time for dinner\, or meet someone new and grab a bite together on your way out. \nThis month is cosponsored by Generosity NY.  Come and hear Logan Gentry share about The Collective\, a community passionate about Generosity. \nAbout The Collective: “We believe this community can become the most generous generation. Our aim is to assist every believer on their journey of generosity in giving their life\, resources\, and time toward God’s heart.  We believe giving is for your own good even as it causes good for others.” \nYou can mark your calendar now for the next ones: Apr 25\, May 23\, Jun 13. \nNew things rise up in community… \n 
URL:https://goldenwoodnyc.org/event/goldenwood-after-work-mar-2023/
LOCATION:Goldenwood Commons\, 109 E 31st St\, 4th Fl\, New York\, NY\, 10016\, United States
CATEGORIES:After-Work
ATTACH;FMTTYPE=image/jpeg:https://goldenwoodnyc.org/wp-content/uploads/2023/02/IMG_1402-scaled.jpg
ORGANIZER;CN="Goldenwood":MAILTO:info@goldenwoodnyc.org
END:VEVENT
BEGIN:VEVENT
DTSTART;TZID=America/New_York:20230228T173000
DTEND;TZID=America/New_York:20230228T190000
DTSTAMP:20260423T174703
CREATED:20230210T175846Z
LAST-MODIFIED:20230227T185002Z
UID:3962-1677605400-1677610800@goldenwoodnyc.org
SUMMARY:Goldenwood After-Work | Feb 2023
DESCRIPTION:This monthly rhythm has become a highlight for the community\, fostering generative connections across the city. Stop by after work to hear about hope-fueled work initiatives emerging and/or share your own. Beverages and light snacks provided. Get home in time for dinner\, or meet someone new and grab a bite together on your way out. \nOur featured guest this month is the newest addition to the Goldenwood Team\, our Director of Dream Cultivation\, Stephen Bailey! Join us to hear more from Stephen and learn about the Dream Forum. (Now receiving submissions for this year…) \nSo you can mark your calendar now for the next ones: Mar 21\, Apr 25\, May 23\, Jun 13. \nNew things rise up in community…
URL:https://goldenwoodnyc.org/event/goldenwood-after-work-feb-2023/
LOCATION:Goldenwood Commons\, 109 E 31st St\, 4th Fl\, New York\, NY\, 10016\, United States
CATEGORIES:After-Work
ATTACH;FMTTYPE=image/png:https://goldenwoodnyc.org/wp-content/uploads/2023/02/Screenshot-2023-02-10-at-2.18.57-PM.png
ORGANIZER;CN="Goldenwood":MAILTO:info@goldenwoodnyc.org
END:VEVENT
END:VCALENDAR