BEGIN:VCALENDAR
VERSION:2.0
PRODID:-//Goldenwood - ECPv6.15.20//NONSGML v1.0//EN
CALSCALE:GREGORIAN
METHOD:PUBLISH
X-ORIGINAL-URL:https://goldenwoodnyc.org
X-WR-CALDESC:Events for Goldenwood
REFRESH-INTERVAL;VALUE=DURATION:PT1H
X-Robots-Tag:noindex
X-PUBLISHED-TTL:PT1H
BEGIN:VTIMEZONE
TZID:America/New_York
BEGIN:DAYLIGHT
TZOFFSETFROM:-0500
TZOFFSETTO:-0400
TZNAME:EDT
DTSTART:20250309T070000
END:DAYLIGHT
BEGIN:STANDARD
TZOFFSETFROM:-0400
TZOFFSETTO:-0500
TZNAME:EST
DTSTART:20251102T060000
END:STANDARD
BEGIN:DAYLIGHT
TZOFFSETFROM:-0500
TZOFFSETTO:-0400
TZNAME:EDT
DTSTART:20260308T070000
END:DAYLIGHT
BEGIN:STANDARD
TZOFFSETFROM:-0400
TZOFFSETTO:-0500
TZNAME:EST
DTSTART:20261101T060000
END:STANDARD
BEGIN:DAYLIGHT
TZOFFSETFROM:-0500
TZOFFSETTO:-0400
TZNAME:EDT
DTSTART:20270314T070000
END:DAYLIGHT
BEGIN:STANDARD
TZOFFSETFROM:-0400
TZOFFSETTO:-0500
TZNAME:EST
DTSTART:20271107T060000
END:STANDARD
END:VTIMEZONE
BEGIN:VEVENT
DTSTART;TZID=America/New_York:20260312T173000
DTEND;TZID=America/New_York:20260312T190000
DTSTAMP:20260423T174339
CREATED:20260302T161316Z
LAST-MODIFIED:20260302T161443Z
UID:8656-1773336600-1773342000@goldenwoodnyc.org
SUMMARY:AfterWork | Cultivating Community + Generative Connections
DESCRIPTION:Goldenwood is committed to cultivating spiritually attentive communities to envision work that is enlivened by hope and expresses the fullness of our humanity. \nJoin us for our 2025-26 AfterWork series! This monthly rhythm has become a highlight for the community\, fostering generative connections across the city to inspire hopeful vision for work revived by love. \nThis month’s highlight: Come and connect with several of the inspiring and dynamic individuals engaged in a variety of callings across the Goldenwood community and learn more about the enlivening offerings of the Institute to renew your calling for the year ahead. \nBeverages and light snacks provided. Drop by anytime between 5:30p and 7:00p. \nPLEASE RSVP HERE
URL:https://goldenwoodnyc.org/event/afterwork-mar-2026/
LOCATION:Goldenwood Commons\, 109 E 31st St\, 4th Fl\, New York\, NY\, 10016\, United States
CATEGORIES:After-Work
ATTACH;FMTTYPE=image/png:https://goldenwoodnyc.org/wp-content/uploads/2026/03/Screenshot-2026-03-02-at-11.11.54-AM.png
ORGANIZER;CN="Goldenwood":MAILTO:info@goldenwoodnyc.org
END:VEVENT
END:VCALENDAR