BEGIN:VCALENDAR
VERSION:2.0
PRODID:-//Goldenwood - ECPv6.15.20//NONSGML v1.0//EN
CALSCALE:GREGORIAN
METHOD:PUBLISH
X-WR-CALNAME:Goldenwood
X-ORIGINAL-URL:https://goldenwoodnyc.org
X-WR-CALDESC:Events for Goldenwood
REFRESH-INTERVAL;VALUE=DURATION:PT1H
X-Robots-Tag:noindex
X-PUBLISHED-TTL:PT1H
BEGIN:VTIMEZONE
TZID:America/New_York
BEGIN:DAYLIGHT
TZOFFSETFROM:-0500
TZOFFSETTO:-0400
TZNAME:EDT
DTSTART:20230312T070000
END:DAYLIGHT
BEGIN:STANDARD
TZOFFSETFROM:-0400
TZOFFSETTO:-0500
TZNAME:EST
DTSTART:20231105T060000
END:STANDARD
BEGIN:DAYLIGHT
TZOFFSETFROM:-0500
TZOFFSETTO:-0400
TZNAME:EDT
DTSTART:20240310T070000
END:DAYLIGHT
BEGIN:STANDARD
TZOFFSETFROM:-0400
TZOFFSETTO:-0500
TZNAME:EST
DTSTART:20241103T060000
END:STANDARD
BEGIN:DAYLIGHT
TZOFFSETFROM:-0500
TZOFFSETTO:-0400
TZNAME:EDT
DTSTART:20250309T070000
END:DAYLIGHT
BEGIN:STANDARD
TZOFFSETFROM:-0400
TZOFFSETTO:-0500
TZNAME:EST
DTSTART:20251102T060000
END:STANDARD
END:VTIMEZONE
BEGIN:VEVENT
DTSTART;TZID=America/New_York:20240926T173000
DTEND;TZID=America/New_York:20240926T190000
DTSTAMP:20260425T064533
CREATED:20240905T145827Z
LAST-MODIFIED:20240905T220714Z
UID:6133-1727371800-1727377200@goldenwoodnyc.org
SUMMARY:AfterWork | Community + Connection
DESCRIPTION:This monthly rhythm has become a highlight for the community\, fostering generative connections across the city. Come on by for our fall kick-off to hear about hope-fueled work initiatives emerging and/or share your own. Beverages and light snacks provided. Get home in time for dinner\, or meet someone new and grab a bite together on your way out. \nJoin us every month to hear about new work emerging in the community and enjoy collaborative conversations that spur each other on in hope. \nTHIS MONTH: Learn more about the newness emerging this fall with the launch of the GOLDENWOOD COLLECTIVE and GOLDENWOOD INSTITUTE. New things rise up in community… \nNew things rise up in community…
URL:https://goldenwoodnyc.org/event/afterwork-sept-2024/
LOCATION:Goldenwood Commons\, 109 E 31st St\, 4th Fl\, New York\, NY\, 10016\, United States
CATEGORIES:After-Work
ATTACH;FMTTYPE=image/jpeg:https://goldenwoodnyc.org/wp-content/uploads/2024/08/IMG_1025-scaled.jpg
ORGANIZER;CN="Goldenwood":MAILTO:info@goldenwoodnyc.org
END:VEVENT
END:VCALENDAR