BEGIN:VCALENDAR
VERSION:2.0
PRODID:-//Goldenwood - ECPv6.15.20//NONSGML v1.0//EN
CALSCALE:GREGORIAN
METHOD:PUBLISH
X-WR-CALNAME:Goldenwood
X-ORIGINAL-URL:https://goldenwoodnyc.org
X-WR-CALDESC:Events for Goldenwood
REFRESH-INTERVAL;VALUE=DURATION:PT1H
X-Robots-Tag:noindex
X-PUBLISHED-TTL:PT1H
BEGIN:VTIMEZONE
TZID:America/New_York
BEGIN:DAYLIGHT
TZOFFSETFROM:-0500
TZOFFSETTO:-0400
TZNAME:EDT
DTSTART:20250309T070000
END:DAYLIGHT
BEGIN:STANDARD
TZOFFSETFROM:-0400
TZOFFSETTO:-0500
TZNAME:EST
DTSTART:20251102T060000
END:STANDARD
BEGIN:DAYLIGHT
TZOFFSETFROM:-0500
TZOFFSETTO:-0400
TZNAME:EDT
DTSTART:20260308T070000
END:DAYLIGHT
BEGIN:STANDARD
TZOFFSETFROM:-0400
TZOFFSETTO:-0500
TZNAME:EST
DTSTART:20261101T060000
END:STANDARD
BEGIN:DAYLIGHT
TZOFFSETFROM:-0500
TZOFFSETTO:-0400
TZNAME:EDT
DTSTART:20270314T070000
END:DAYLIGHT
BEGIN:STANDARD
TZOFFSETFROM:-0400
TZOFFSETTO:-0500
TZNAME:EST
DTSTART:20271107T060000
END:STANDARD
END:VTIMEZONE
BEGIN:VEVENT
DTSTART;TZID=America/New_York:20260423T080000
DTEND;TZID=America/New_York:20260425T170000
DTSTAMP:20260423T105617
CREATED:20260310T134549Z
LAST-MODIFIED:20260317T130124Z
UID:8671-1776931200-1777136400@goldenwoodnyc.org
SUMMARY:Mockingbird Conference: Wonder for the Weary | NYC
DESCRIPTION:Goldenwood encourages you to consider joining our friends\, the Mockingbird creative community\, for their annual conference in New York City. “For the weary\, the bewildered\, the discouraged\, and the lost\, we point to the wonder (and delight) of God’s grace. This is the cure for what ails us — and the beginning of wisdom.” \nYou may recognize several from the Goldenwood community involved\, with Red Vineyard artist John Van Deusen leading worship\, and a closing performance of current Nautilus participant Dean Poynor‘s work\, The Second Avenue Subway. \nYou can find more information on their conference site as the agenda and additional speakers are being announced. Registration is now open. Enter code Goldenwood2026 for 15% off your registration! \nEmail info@goldenwoodnyc.org to let us know you’re registered.
URL:https://goldenwoodnyc.org/event/mockingbird-conference-2026/
LOCATION:The Parish of Calvary-St. George’s\, 4 Rutherford Place\, New York\, NY\, 10003\, United States
ATTACH;FMTTYPE=image/png:https://goldenwoodnyc.org/wp-content/uploads/2026/03/Screenshot-2026-03-10-at-9.44.51-AM.png
END:VEVENT
END:VCALENDAR